BEGIN:VCALENDAR
VERSION:2.0
PRODID:-//eventon.com NONSGML v1.0//EN
CALSCALE:GREGORIAN
METHOD:PUBLISH
BEGIN:VEVENT
UID:69e73b6b27c81
DTSTAMP:20260421T085507Z
DTSTART:20260308T150000Z
DTEND:20260308T235900Z
LOCATION:Hotel Hans Egede Aqqusinersuaq
SUMMARY:Ligestillingsrådet inviterer til en eftermiddag på Hotel Hans Egede
DESCRIPTION:Ligestillingsrådet inviterer til en eftermiddag søndag den 8.
  marts 2026 kl. 15:00 på Hotel Hans Egede Vi byder på bobler og high tea 
 \,  mens vi sammen bliver klogere på strukturel ulighed – og på hvad de
 n kan betyde helt konkret for kvinder og for børn. I år sætter vi[..]\nh
 ttps://nuuk.nu/events/ligestillingsraadet-inviterer-til-en-eftermiddag-paa-
 hotel-hans-egede/
URL:https://nuuk.nu/events/ligestillingsraadet-inviterer-til-en-eftermiddag-paa-hotel-hans-egede/
END:VEVENT
END:VCALENDAR