BEGIN:VCALENDAR
VERSION:2.0
PRODID:-//eventon.com NONSGML v1.0//EN
CALSCALE:GREGORIAN
METHOD:PUBLISH
BEGIN:VEVENT
UID:69e7528136990
DTSTAMP:20260421T103337Z
DTSTART:20260320T213000Z
DTEND:20260320T235900Z
LOCATION:Hotel Hans Egede Aqqusinersuaq
SUMMARY:Koncert med tøsedrengene
DESCRIPTION:Koncert med tøsedrengene Fredag den 20. marts 2026 kl. 21:30 P
 ris: 345\, - BILLETSALG WWW.HHE.GL KØB EVENT &nbsp;\nhttps://nuuk.nu/event
 s/koncert-med-toesedrengene/
URL:https://nuuk.nu/events/koncert-med-toesedrengene/
END:VEVENT
END:VCALENDAR