BEGIN:VCALENDAR
VERSION:2.0
PRODID:-//eventon.com NONSGML v1.0//EN
CALSCALE:GREGORIAN
METHOD:PUBLISH
BEGIN:VEVENT
UID:69e936e0cd066
DTSTAMP:20260422T210016Z
DTSTART:20250511T230000Z
DTEND:20250512T020000Z
LOCATION:Hotel Hans Egede Aqqusinersuaq
SUMMARY:MORS DAG
DESCRIPTION:MORS DAG Søndag den 11. maj kl 12:00 &#8211; 15:00 TA’ UD OG
  FEJR DIN KVINDEN I DIT LIV!! SKALDYRSFAD Snekrabbe\,  skalrejer\,  kammusl
 inger\,  aioli\,  chilimayo PANNA COTTA med kvæde\,  citrus KR. 335\, - pr
 . person &nbsp;\nhttps://nuuk.nu/events/mors-dag-2/
URL:https://nuuk.nu/events/mors-dag-2/
END:VEVENT
END:VCALENDAR