BEGIN:VCALENDAR
VERSION:2.0
PRODID:-//eventon.com NONSGML v1.0//EN
CALSCALE:GREGORIAN
METHOD:PUBLISH
BEGIN:VEVENT
UID:69e4d68ae231d
DTSTAMP:20260419T132010Z
DTSTART:20250104T050000Z
DTEND:20250104T105000Z
LOCATION:Hotel Hans Egede Aqqusinersuaq
SUMMARY:Nytårsmenu på Sarfalik
DESCRIPTION:Sarfalik Seafood byder det nye år velkommen FREDAG DEN 3. JANU
 AR OG LØRDAG DEN 4. JANUAR Køkkenchefens udvalgte 3 retter 295\, - 4 rett
 er 345\, - 5 retter 395\, -\nhttps://nuuk.nu/events/nytaarsmenu-paa-sarfali
 k/
URL:https://nuuk.nu/events/nytaarsmenu-paa-sarfalik/
END:VEVENT
END:VCALENDAR