BEGIN:VCALENDAR
VERSION:2.0
PRODID:-//eventon.com NONSGML v1.0//EN
CALSCALE:GREGORIAN
METHOD:PUBLISH
BEGIN:VEVENT
UID:69e6ed6d862b8
DTSTAMP:20260421T032221Z
DTSTART:20230214T110000Z
DTEND:20230215T105000Z
LOCATION:Hotel Hans Egede Aqqusinersuaq
SUMMARY:Valentine’s Day
DESCRIPTION:Tirsdag den 14. februar 1. gl. Cremant d’Alsace Sharing menu 
 for 2 Skalrejer m/ aioli Friteret kammusling m/ purløgsmayonnaise Rimmet t
 orsk m/ basilikumspesto Vitello Tornado Moskustatar\,  temperet æggeblomme
 \,  løvstikke\,  forårsløg Bao m/ sticky rensdyr Oksefilet m/ bagt toma
 t og sauce Diana Scampi i urte-Beurre Blanc Pommes Alumette Grøn salat Sma
 ̊[..]\nhttps://nuuk.nu/events/valentines-day/
URL:https://nuuk.nu/events/valentines-day/
END:VEVENT
END:VCALENDAR