BEGIN:VCALENDAR
VERSION:2.0
PRODID:-//eventon.com NONSGML v1.0//EN
CALSCALE:GREGORIAN
METHOD:PUBLISH
BEGIN:VEVENT
UID:69e73d08a5d55
DTSTAMP:20260421T090200Z
DTSTART:20210528T160000Z
DTEND:20210528T180000Z
LOCATION:Hotel Hans Egede Aqqusinersuaq
SUMMARY:Fredagsbar The Rat Pack
DESCRIPTION:Live musik fra kl. 16.00 til 18.00 Fredagsbar tilbud Fadøl kr.
  58\, -\nhttps://nuuk.nu/events/fredagsbar-the-rat-pack/
URL:https://nuuk.nu/events/fredagsbar-the-rat-pack/
END:VEVENT
END:VCALENDAR