BEGIN:VCALENDAR
VERSION:2.0
PRODID:-//eventon.com NONSGML v1.0//EN
CALSCALE:GREGORIAN
METHOD:PUBLISH
BEGIN:VEVENT
UID:69e7596014f09
DTSTAMP:20260421T110256Z
DTSTART:20210326T160000Z
DTEND:20210326T180000Z
LOCATION:Hotel Hans Egede Aqqusinersuaq
SUMMARY:Fredagsbar BLUES EVENING
DESCRIPTION:Pianist Live musik fra kl. 16.00 til 18.00 Fadøl kr. 58.- 1. 
 gl. vin kr. 68\, -\nhttps://nuuk.nu/events/fredagsbar_blues-evening/
URL:https://nuuk.nu/events/fredagsbar_blues-evening/
END:VEVENT
END:VCALENDAR