BEGIN:VCALENDAR
VERSION:2.0
PRODID:-//eventon.com NONSGML v1.0//EN
CALSCALE:GREGORIAN
METHOD:PUBLISH
BEGIN:VEVENT
UID:69e6e085e268d
DTSTAMP:20260421T022717Z
DTSTART:20210305T160000Z
DTEND:20210305T180000Z
LOCATION:Hotel Hans Egede Aqqusinersuaq
SUMMARY:Fredagsbar CROONERS EVENING
DESCRIPTION:Pianist Live musik fra kl. 16.00 til 18.00 Fadøl kr. 58.- 1. g
 l. vin kr. 68\, -\nhttps://nuuk.nu/events/fredagsbar-paa-skiline-bar/
URL:https://nuuk.nu/events/fredagsbar-paa-skiline-bar/
END:VEVENT
END:VCALENDAR