BEGIN:VCALENDAR
VERSION:2.0
PRODID:-//eventon.com NONSGML v1.0//EN
CALSCALE:GREGORIAN
METHOD:PUBLISH
BEGIN:VEVENT
UID:69eadc6e54381
DTSTAMP:20260424T025854Z
DTSTART:20210320T190000Z
DTEND:20210320T235000Z
LOCATION:Hotel Hans Egede Aqqusinersuaq
SUMMARY:Fisk og Skaldyr
DESCRIPTION:MENU Marinerede kammuslinger Skaldyrsbræt\,  røgede skalrejer
 \,  skalrejer\,  snekrabber\,  Eggs Royale med stenbiderrogn\, Aioli\,  chi
 limayonnaise\,  syltet rødløg\,  brød\,  smør Serveres som en sharingbu
 ffet på bordet Skindstegt rødfisk Ragout af tomat\,  grønkål og hummer\
 ,  brændt selleripuré\,  skaldyrsfumé og dildkogt kartoffel Chokoladeche
 esecake Marinerede bær og nøddekrokant Pris pr. person kr. 545\, - &nbsp;
 \nhttps://nuuk.nu/events/fisk-og-skaldyr/
URL:https://nuuk.nu/events/fisk-og-skaldyr/
END:VEVENT
END:VCALENDAR